BEGIN:VCALENDAR
VERSION:2.0
PRODID:-//Evergreen Community Orchestra - ECPv6.15.20//NONSGML v1.0//EN
CALSCALE:GREGORIAN
METHOD:PUBLISH
X-ORIGINAL-URL:https://evergreencommunityorchestra.org
X-WR-CALDESC:Events for Evergreen Community Orchestra
REFRESH-INTERVAL;VALUE=DURATION:PT1H
X-Robots-Tag:noindex
X-PUBLISHED-TTL:PT1H
BEGIN:VTIMEZONE
TZID:America/Los_Angeles
BEGIN:DAYLIGHT
TZOFFSETFROM:-0800
TZOFFSETTO:-0700
TZNAME:PDT
DTSTART:20230312T100000
END:DAYLIGHT
BEGIN:STANDARD
TZOFFSETFROM:-0700
TZOFFSETTO:-0800
TZNAME:PST
DTSTART:20231105T090000
END:STANDARD
BEGIN:DAYLIGHT
TZOFFSETFROM:-0800
TZOFFSETTO:-0700
TZNAME:PDT
DTSTART:20240310T100000
END:DAYLIGHT
BEGIN:STANDARD
TZOFFSETFROM:-0700
TZOFFSETTO:-0800
TZNAME:PST
DTSTART:20241103T090000
END:STANDARD
BEGIN:DAYLIGHT
TZOFFSETFROM:-0800
TZOFFSETTO:-0700
TZNAME:PDT
DTSTART:20250309T100000
END:DAYLIGHT
BEGIN:STANDARD
TZOFFSETFROM:-0700
TZOFFSETTO:-0800
TZNAME:PST
DTSTART:20251102T090000
END:STANDARD
END:VTIMEZONE
BEGIN:VEVENT
DTSTART;TZID=America/Los_Angeles:20241208T150000
DTEND;TZID=America/Los_Angeles:20241208T170000
DTSTAMP:20260423T131015
CREATED:20241102T015259Z
LAST-MODIFIED:20241207T180241Z
UID:271-1733670000-1733677200@evergreencommunityorchestra.org
SUMMARY:Holiday Air: ECO and Everett Chorale
DESCRIPTION:On December 8\, we will share the stage with with Everett Chorale and Snohomish County Youth Chorus. Selections will include John Rutter’s “Gloria”; an arrangement of “Jesu\, Joy of Man’s Desiring” for chorus and orchestra; and “Walking in the Air” by Blake for chorus and orchestra. \nMore details and tickets: https://villagetheatre.org/everett-chorale/
URL:https://evergreencommunityorchestra.org/event/holiday-air-eco-and-everett-chorale/
LOCATION:Everett Performing Arts Center\, 2710 Wetmore Avenue\, Everett\, WA\, 98201\, United States
END:VEVENT
BEGIN:VEVENT
DTSTART;TZID=America/Los_Angeles:20241215T150000
DTEND;TZID=America/Los_Angeles:20241215T160000
DTSTAMP:20260423T131015
CREATED:20241201T013228Z
LAST-MODIFIED:20241201T013414Z
UID:489-1734274800-1734278400@evergreencommunityorchestra.org
SUMMARY:Holiday Concert 2024
DESCRIPTION:Come join us for a our final concert this Holiday Season! \nThe program includes: Charlie Brown Christmas\, Corelli’s Christmas Concert\, Bach’s Jesu\, joy of man’s desiring\, an instrumental version of Handel’s Zadok the priest\, as well as some Christmas Carols.
URL:https://evergreencommunityorchestra.org/event/holiday-concert-2024/
LOCATION:Bethlehem Lutheran Church\, 7215 51st Ave NE\, Marysville\, WA\, 98270\, United States
END:VEVENT
END:VCALENDAR