BEGIN:VCALENDAR
VERSION:2.0
PRODID:-//Evergreen Community Orchestra - ECPv6.15.20//NONSGML v1.0//EN
CALSCALE:GREGORIAN
METHOD:PUBLISH
X-WR-CALNAME:Evergreen Community Orchestra
X-ORIGINAL-URL:https://evergreencommunityorchestra.org
X-WR-CALDESC:Events for Evergreen Community Orchestra
REFRESH-INTERVAL;VALUE=DURATION:PT1H
X-Robots-Tag:noindex
X-PUBLISHED-TTL:PT1H
BEGIN:VTIMEZONE
TZID:America/Los_Angeles
BEGIN:DAYLIGHT
TZOFFSETFROM:-0800
TZOFFSETTO:-0700
TZNAME:PDT
DTSTART:20240310T100000
END:DAYLIGHT
BEGIN:STANDARD
TZOFFSETFROM:-0700
TZOFFSETTO:-0800
TZNAME:PST
DTSTART:20241103T090000
END:STANDARD
BEGIN:DAYLIGHT
TZOFFSETFROM:-0800
TZOFFSETTO:-0700
TZNAME:PDT
DTSTART:20250309T100000
END:DAYLIGHT
BEGIN:STANDARD
TZOFFSETFROM:-0700
TZOFFSETTO:-0800
TZNAME:PST
DTSTART:20251102T090000
END:STANDARD
BEGIN:DAYLIGHT
TZOFFSETFROM:-0800
TZOFFSETTO:-0700
TZNAME:PDT
DTSTART:20260308T100000
END:DAYLIGHT
BEGIN:STANDARD
TZOFFSETFROM:-0700
TZOFFSETTO:-0800
TZNAME:PST
DTSTART:20261101T090000
END:STANDARD
END:VTIMEZONE
BEGIN:VEVENT
DTSTART;TZID=America/Los_Angeles:20250316T150000
DTEND;TZID=America/Los_Angeles:20250316T150000
DTSTAMP:20260423T124316
CREATED:20250118T044006Z
LAST-MODIFIED:20250307T234354Z
UID:592-1742137200-1742137200@evergreencommunityorchestra.org
SUMMARY:Piano Concerto Showcase
DESCRIPTION:Join ECO for an exciting concert on Sunday\, March 16\, 2025\, at 3 PM at the Glacier Peak High School Performing Arts Center! \nThe concert will feature three very talented young pianists\, winners of the Snohomish County Music Teachers Association Piano Concerto Competition. They will perform works by Grieg\, Saint-Saëns\, and Liszt\, accompanied by the orchestra. \nIn addition\, the orchestra will perform standalone pieces\, including one of Dvořák’s Slavonic Dances\, excerpts from Rimsky-Korsakov’s Scheherazade\, music from How to Train Your Dragon\, and the iconic power ballad Total Eclipse of the Heart. \nThis event is free and open to the public. We hope to see you there!
URL:https://evergreencommunityorchestra.org/event/2025-piano-concerto-showcase/
LOCATION:Glacier Peak Performing Arts Center\, 7401 144th Place SE\, Snohomish\, WA\, 98296\, United States
END:VEVENT
END:VCALENDAR