BEGIN:VCALENDAR
VERSION:2.0
PRODID:-//Evergreen Community Orchestra - ECPv6.15.20//NONSGML v1.0//EN
CALSCALE:GREGORIAN
METHOD:PUBLISH
X-WR-CALNAME:Evergreen Community Orchestra
X-ORIGINAL-URL:https://evergreencommunityorchestra.org
X-WR-CALDESC:Events for Evergreen Community Orchestra
REFRESH-INTERVAL;VALUE=DURATION:PT1H
X-Robots-Tag:noindex
X-PUBLISHED-TTL:PT1H
BEGIN:VTIMEZONE
TZID:America/Los_Angeles
BEGIN:DAYLIGHT
TZOFFSETFROM:-0800
TZOFFSETTO:-0700
TZNAME:PDT
DTSTART:20240310T100000
END:DAYLIGHT
BEGIN:STANDARD
TZOFFSETFROM:-0700
TZOFFSETTO:-0800
TZNAME:PST
DTSTART:20241103T090000
END:STANDARD
BEGIN:DAYLIGHT
TZOFFSETFROM:-0800
TZOFFSETTO:-0700
TZNAME:PDT
DTSTART:20250309T100000
END:DAYLIGHT
BEGIN:STANDARD
TZOFFSETFROM:-0700
TZOFFSETTO:-0800
TZNAME:PST
DTSTART:20251102T090000
END:STANDARD
BEGIN:DAYLIGHT
TZOFFSETFROM:-0800
TZOFFSETTO:-0700
TZNAME:PDT
DTSTART:20260308T100000
END:DAYLIGHT
BEGIN:STANDARD
TZOFFSETFROM:-0700
TZOFFSETTO:-0800
TZNAME:PST
DTSTART:20261101T090000
END:STANDARD
END:VTIMEZONE
BEGIN:VEVENT
DTSTART;TZID=America/Los_Angeles:20251026T150000
DTEND;TZID=America/Los_Angeles:20251026T170000
DTSTAMP:20260422T170313
CREATED:20250929T174625Z
LAST-MODIFIED:20251001T204447Z
UID:758-1761490800-1761498000@evergreencommunityorchestra.org
SUMMARY:Fall Concert:  Dark Horizons
DESCRIPTION:Sunday\, October 26 at 3 pm\, at the PUD Theater2320 California St\, Everett \nEvergreen Community Orchestra presents our fall concert\, Dark Horizons! \n\n\n\n\n\nOn the program are “Night on Bald Mountain” by Moussorgsky\, Sibelius’ “Valse Triste”\, Gounod’s “Funeral March of a Marionette”\, as well as selections from Henry Mancini. \n\n\n\nThe concert is free\, suitable for all ages\, and open to the public. We look forward to seeing you there!
URL:https://evergreencommunityorchestra.org/event/fall-concert-dark-horizons/
LOCATION:PUD Theater\, 2320 California St\, Everett\, WA\, 98201\, United States
ATTACH;FMTTYPE=image/jpeg:https://evergreencommunityorchestra.org/wp-content/uploads/2025/09/poster-11x17-2.jpg
END:VEVENT
END:VCALENDAR